{
 "currentVersion": 10.91,
 "serviceDescription": "Aerial/Aerial_1986",
 "name": "Aerial/Aerial_1986",
 "description": "",
 "extent": {
  "xmin": 6035872.2323389845,
  "ymin": 2160788.572304692,
  "xmax": 6150468.101175774,
  "ymax": 2229782.388089953,
  "spatialReference": {
   "wkid": 102646,
   "latestWkid": 2230
  }
 },
 "initialExtent": {
  "xmin": 6035872.2323389845,
  "ymin": 2160788.572304692,
  "xmax": 6150468.101175774,
  "ymax": 2229782.388089953,
  "spatialReference": {
   "wkid": 102646,
   "latestWkid": 2230
  }
 },
 "fullExtent": {
  "xmin": 6035872.2323389845,
  "ymin": 2160788.572304692,
  "xmax": 6150468.101175774,
  "ymax": 2229782.388089953,
  "spatialReference": {
   "wkid": 102646,
   "latestWkid": 2230
  }
 },
 "hasMultidimensions": false,
 "pixelSizeX": 6.563337275875681,
 "pixelSizeY": 6.650006340748035,
 "datasetFormat": "TIFF",
 "uncompressedSize": 543442500,
 "blockWidth": 17460,
 "blockHeight": 1,
 "compressionType": "None",
 "bandNames": [
  "Band_1",
  "Band_2",
  "Band_3"
 ],
 "allowCopy": true,
 "allowAnalysis": true,
 "bandCount": 3,
 "pixelType": "U8",
 "minPixelSize": 0,
 "maxPixelSize": 0,
 "copyrightText": "",
 "serviceDataType": "esriImageServiceDataTypeRGB",
 "serviceSourceType": "esriImageServiceSourceTypeDataset",
 "minValues": [
  0,
  0,
  0
 ],
 "maxValues": [
  255,
  255,
  255
 ],
 "meanValues": [
  103.53215606067,
  98.146855910222,
  81.259540484992
 ],
 "stdvValues": [
  58.113345683983,
  52.276752135422,
  45.556314030064
 ],
 "objectIdField": "",
 "fields": [],
 "capabilities": "Image,Metadata,Mensuration",
 "defaultMosaicMethod": "Center",
 "allowedMosaicMethods": "",
 "sortField": "",
 "sortValue": null,
 "sortAscending": true,
 "mosaicOperator": "First",
 "defaultCompressionQuality": 75,
 "defaultResamplingMethod": "Bilinear",
 "maxImageHeight": 4100,
 "maxImageWidth": 15000,
 "allowRasterFunction": true,
 "rasterFunctionInfos": [
  {
   "name": "None",
   "description": "",
   "help": ""
  }
 ],
 "rasterTypeInfos": [
  {
   "name": "Raster Dataset",
   "description": "Supports all ArcGIS Raster Datasets",
   "help": ""
  }
 ],
 "mensurationCapabilities": "Basic",
 "hasHistograms": true,
 "hasColormap": false,
 "hasRasterAttributeTable": false,
 "minScale": 102400,
 "maxScale": 400,
 "exportTilesAllowed": false,
 "supportsStatistics": false,
 "supportsAdvancedQueries": false,
 "editFieldsInfo": null,
 "ownershipBasedAccessControlForRasters": null,
 "allowComputeTiePoints": false,
 "useStandardizedQueries": true,
 "advancedQueryCapabilities": {
  "useStandardizedQueries": true,
  "supportsStatistics": false,
  "supportsOrderBy": false,
  "supportsDistinct": false,
  "supportsPagination": false
 },
 "spatialReference": {
  "wkid": 102646,
  "latestWkid": 2230
 }
}
