{
 "currentVersion": 10.91,
 "serviceDescription": "Aerial/Aerial_2010_Test",
 "name": "Aerial/Aerial_2010_Test",
 "description": "",
 "extent": {
  "xmin": 6058466.419763351,
  "ymin": 2150139.281595579,
  "xmax": 6148796.950229572,
  "ymax": 2240469.8120618,
  "spatialReference": {
   "wkid": 102646,
   "latestWkid": 2230
  }
 },
 "initialExtent": {
  "xmin": 6058466.419763351,
  "ymin": 2150139.281595579,
  "xmax": 6148796.950229572,
  "ymax": 2240469.8120618,
  "spatialReference": {
   "wkid": 102646,
   "latestWkid": 2230
  }
 },
 "fullExtent": {
  "xmin": 6058466.419763351,
  "ymin": 2150139.281595579,
  "xmax": 6148796.950229572,
  "ymax": 2240469.8120618,
  "spatialReference": {
   "wkid": 102646,
   "latestWkid": 2230
  }
 },
 "hasMultidimensions": false,
 "pixelSizeX": 0.9905206476914444,
 "pixelSizeY": 0.9905206476914444,
 "datasetFormat": "MrSID",
 "uncompressedSize": 24949584075,
 "blockWidth": 1024,
 "blockHeight": 128,
 "compressionType": "Wavelet (MG3)",
 "bandNames": [
  "Band_1",
  "Band_2",
  "Band_3"
 ],
 "allowCopy": true,
 "allowAnalysis": true,
 "bandCount": 3,
 "pixelType": "U8",
 "minPixelSize": 0.8680555555555555,
 "maxPixelSize": 1.736111111111111,
 "copyrightText": "",
 "serviceDataType": "esriImageServiceDataTypeRGB",
 "serviceSourceType": "esriImageServiceSourceTypeDataset",
 "minValues": [
  8,
  28,
  44
 ],
 "maxValues": [
  224,
  225,
  215
 ],
 "meanValues": [
  111.06518518519,
  120.10728395062,
  116.08901234568
 ],
 "stdvValues": [
  30.151796175685,
  25.085950448548,
  23.677652176784
 ],
 "objectIdField": "",
 "fields": [],
 "capabilities": "Image,Metadata,Mensuration",
 "defaultMosaicMethod": "Center",
 "allowedMosaicMethods": "",
 "sortField": "",
 "sortValue": null,
 "sortAscending": true,
 "mosaicOperator": "First",
 "defaultCompressionQuality": 75,
 "defaultResamplingMethod": "Bilinear",
 "maxImageHeight": 4100,
 "maxImageWidth": 15000,
 "singleFusedMapCache": true,
 "tileInfo": {
  "rows": 256,
  "cols": 256,
  "dpi": 96,
  "format": "MIXED",
  "compressionQuality": 75,
  "origin": {
   "x": -118608900,
   "y": 1.5908159999999997E8
  },
  "spatialReference": {
   "wkid": 102646,
   "latestWkid": 2230
  },
  "lods": [
   {
    "level": 0,
    "resolution": 1.736111111111111,
    "scale": 2000
   },
   {
    "level": 1,
    "resolution": 0.8680555555555555,
    "scale": 1000
   },
   {
    "level": 2,
    "resolution": 0.43402777777777773,
    "scale": 500
   },
   {
    "level": 3,
    "resolution": 0.21701388888888887,
    "scale": 250
   }
  ]
 },
 "storageInfo": {
  "storageFormat": "esriMapCacheStorageModeCompactV2",
  "packetSize": 128
 },
 "cacheType": "Map",
 "allowRasterFunction": true,
 "rasterFunctionInfos": [
  {
   "name": "None",
   "description": "",
   "help": ""
  }
 ],
 "rasterTypeInfos": [
  {
   "name": "Raster Dataset",
   "description": "Supports all ArcGIS Raster Datasets",
   "help": ""
  }
 ],
 "mensurationCapabilities": "Basic",
 "hasHistograms": true,
 "hasColormap": false,
 "hasRasterAttributeTable": false,
 "minScale": 2000,
 "maxScale": 1000,
 "minLOD": 0,
 "maxLOD": 1,
 "exportTilesAllowed": false,
 "supportsStatistics": false,
 "supportsAdvancedQueries": false,
 "editFieldsInfo": null,
 "ownershipBasedAccessControlForRasters": null,
 "allowComputeTiePoints": false,
 "useStandardizedQueries": true,
 "advancedQueryCapabilities": {
  "useStandardizedQueries": true,
  "supportsStatistics": false,
  "supportsOrderBy": false,
  "supportsDistinct": false,
  "supportsPagination": false
 },
 "spatialReference": {
  "wkid": 102646,
  "latestWkid": 2230
 }
}
