{
 "currentVersion": 10.91,
 "serviceDescription": "Aerial/Aerial_2021",
 "name": "Aerial/Aerial_2021",
 "description": "",
 "extent": {
  "xmin": 6053924.000000009,
  "ymin": 2148184.9999994566,
  "xmax": 6146424.000000009,
  "ymax": 2241934.9999994566,
  "spatialReference": {
   "wkid": 102646,
   "latestWkid": 2230
  }
 },
 "initialExtent": {
  "xmin": 6053924.000000009,
  "ymin": 2148184.9999994566,
  "xmax": 6146424.000000009,
  "ymax": 2241934.9999994566,
  "spatialReference": {
   "wkid": 102646,
   "latestWkid": 2230
  }
 },
 "fullExtent": {
  "xmin": 6053924.000000009,
  "ymin": 2148184.9999994566,
  "xmax": 6146424.000000009,
  "ymax": 2241934.9999994566,
  "spatialReference": {
   "wkid": 102646,
   "latestWkid": 2230
  }
 },
 "hasMultidimensions": false,
 "pixelSizeX": 0.25,
 "pixelSizeY": 0.25,
 "datasetFormat": "MrSID",
 "uncompressedSize": 416250000000,
 "blockWidth": 1024,
 "blockHeight": 128,
 "compressionType": "Wavelet (MG3)",
 "bandNames": [
  "Band_1",
  "Band_2",
  "Band_3"
 ],
 "allowCopy": false,
 "allowAnalysis": true,
 "bandCount": 3,
 "pixelType": "U8",
 "minPixelSize": 0.3472222222222222,
 "maxPixelSize": 88.88888888888889,
 "copyrightText": "",
 "serviceDataType": "esriImageServiceDataTypeRGB",
 "serviceSourceType": "esriImageServiceSourceTypeDataset",
 "minValues": [
  41,
  43,
  41
 ],
 "maxValues": [
  255,
  255,
  255
 ],
 "meanValues": [
  195.50131390349,
  192.36204013378,
  190.03010033445
 ],
 "stdvValues": [
  62.250441070463,
  65.121923998229,
  67.416289526286
 ],
 "objectIdField": "",
 "fields": [],
 "capabilities": "Image,Metadata,Mensuration",
 "defaultMosaicMethod": "Center",
 "allowedMosaicMethods": "",
 "sortField": "",
 "sortValue": null,
 "sortAscending": true,
 "mosaicOperator": "First",
 "defaultCompressionQuality": 75,
 "defaultResamplingMethod": "Bilinear",
 "maxImageHeight": 4100,
 "maxImageWidth": 15000,
 "singleFusedMapCache": true,
 "tileInfo": {
  "rows": 256,
  "cols": 256,
  "dpi": 96,
  "format": "JPEG",
  "compressionQuality": 75,
  "origin": {
   "x": -118608900,
   "y": 1.5908159999999997E8
  },
  "spatialReference": {
   "wkid": 102646,
   "latestWkid": 2230
  },
  "lods": [
   {
    "level": 0,
    "resolution": 88.88888888888889,
    "scale": 102400
   },
   {
    "level": 1,
    "resolution": 44.44444444444444,
    "scale": 51200
   },
   {
    "level": 2,
    "resolution": 22.22222222222222,
    "scale": 25600
   },
   {
    "level": 3,
    "resolution": 11.11111111111111,
    "scale": 12800
   },
   {
    "level": 4,
    "resolution": 5.555555555555555,
    "scale": 6400
   },
   {
    "level": 5,
    "resolution": 2.7777777777777777,
    "scale": 3200
   },
   {
    "level": 6,
    "resolution": 1.3888888888888888,
    "scale": 1600
   },
   {
    "level": 7,
    "resolution": 0.6944444444444444,
    "scale": 800
   },
   {
    "level": 8,
    "resolution": 0.3472222222222222,
    "scale": 400
   }
  ]
 },
 "storageInfo": {
  "storageFormat": "esriMapCacheStorageModeCompactV2",
  "packetSize": 128
 },
 "cacheType": "Map",
 "allowRasterFunction": true,
 "rasterFunctionInfos": [
  {
   "name": "None",
   "description": "",
   "help": ""
  }
 ],
 "rasterTypeInfos": [
  {
   "name": "Raster Dataset",
   "description": "Supports all ArcGIS Raster Datasets",
   "help": ""
  }
 ],
 "mensurationCapabilities": "Basic",
 "hasHistograms": true,
 "hasColormap": false,
 "hasRasterAttributeTable": false,
 "minScale": 102400,
 "maxScale": 400,
 "exportTilesAllowed": false,
 "supportsStatistics": false,
 "supportsAdvancedQueries": false,
 "editFieldsInfo": null,
 "ownershipBasedAccessControlForRasters": null,
 "allowComputeTiePoints": false,
 "useStandardizedQueries": true,
 "advancedQueryCapabilities": {
  "useStandardizedQueries": true,
  "supportsStatistics": false,
  "supportsOrderBy": false,
  "supportsDistinct": false,
  "supportsPagination": false
 },
 "spatialReference": {
  "wkid": 102646,
  "latestWkid": 2230
 }
}
