{
 "currentVersion": 10.91,
 "serviceDescription": "Aerial/Aerial_2025",
 "name": "Aerial/Aerial_2025",
 "description": "",
 "extent": {
  "xmin": 6052970.75,
  "ymin": 2151605.25,
  "xmax": 6138040.75,
  "ymax": 2246918,
  "spatialReference": {
   "wkt": "PROJCS[\"NAD_1983_California_zone_6_ftUS\",GEOGCS[\"GCS_North_American_1983\",DATUM[\"D_North_American_1983\",SPHEROID[\"GRS_1980\",6378137.0,298.257222101]],PRIMEM[\"Greenwich\",0.0],UNIT[\"Degree\",0.0174532925199433]],PROJECTION[\"Lambert_Conformal_Conic\"],PARAMETER[\"false_easting\",6561666.667],PARAMETER[\"false_northing\",1640416.667],PARAMETER[\"central_meridian\",-116.25],PARAMETER[\"standard_parallel_1\",32.78333333333333],PARAMETER[\"standard_parallel_2\",33.88333333333333],PARAMETER[\"latitude_of_origin\",32.16666666666666],UNIT[\"Foot_US\",0.3048006096012192]]"
  }
 },
 "initialExtent": {
  "xmin": 6052970.75,
  "ymin": 2151605.25,
  "xmax": 6138040.75,
  "ymax": 2246918,
  "spatialReference": {
   "wkt": "PROJCS[\"NAD_1983_California_zone_6_ftUS\",GEOGCS[\"GCS_North_American_1983\",DATUM[\"D_North_American_1983\",SPHEROID[\"GRS_1980\",6378137.0,298.257222101]],PRIMEM[\"Greenwich\",0.0],UNIT[\"Degree\",0.0174532925199433]],PROJECTION[\"Lambert_Conformal_Conic\"],PARAMETER[\"false_easting\",6561666.667],PARAMETER[\"false_northing\",1640416.667],PARAMETER[\"central_meridian\",-116.25],PARAMETER[\"standard_parallel_1\",32.78333333333333],PARAMETER[\"standard_parallel_2\",33.88333333333333],PARAMETER[\"latitude_of_origin\",32.16666666666666],UNIT[\"Foot_US\",0.3048006096012192]]"
  }
 },
 "fullExtent": {
  "xmin": 6052970.75,
  "ymin": 2151605.25,
  "xmax": 6138040.75,
  "ymax": 2246918,
  "spatialReference": {
   "wkt": "PROJCS[\"NAD_1983_California_zone_6_ftUS\",GEOGCS[\"GCS_North_American_1983\",DATUM[\"D_North_American_1983\",SPHEROID[\"GRS_1980\",6378137.0,298.257222101]],PRIMEM[\"Greenwich\",0.0],UNIT[\"Degree\",0.0174532925199433]],PROJECTION[\"Lambert_Conformal_Conic\"],PARAMETER[\"false_easting\",6561666.667],PARAMETER[\"false_northing\",1640416.667],PARAMETER[\"central_meridian\",-116.25],PARAMETER[\"standard_parallel_1\",32.78333333333333],PARAMETER[\"standard_parallel_2\",33.88333333333333],PARAMETER[\"latitude_of_origin\",32.16666666666666],UNIT[\"Foot_US\",0.3048006096012192]]"
  }
 },
 "hasMultidimensions": false,
 "pixelSizeX": 0.25,
 "pixelSizeY": 0.25,
 "datasetFormat": "MrSID",
 "uncompressedSize": 518928361120,
 "blockWidth": 1024,
 "blockHeight": 128,
 "compressionType": "Wavelet (MG4)",
 "bandNames": [
  "Band_1",
  "Band_2",
  "Band_3",
  "Band_4"
 ],
 "allowCopy": true,
 "allowAnalysis": true,
 "bandCount": 4,
 "pixelType": "U8",
 "minPixelSize": 0.3472222222222222,
 "maxPixelSize": 88.88888888888889,
 "copyrightText": "",
 "serviceDataType": "esriImageServiceDataTypeProcessed",
 "serviceSourceType": "esriImageServiceSourceTypeDataset",
 "minValues": [
  0,
  0,
  0,
  0
 ],
 "maxValues": [
  195,
  174,
  161,
  255
 ],
 "meanValues": [
  112.28964032421,
  111.93009118541,
  105.52203647416,
  247.17540526849
 ],
 "stdvValues": [
  23.736721325469,
  22.321348073752,
  21.107951432685,
  43.580164729088
 ],
 "objectIdField": "",
 "fields": [],
 "capabilities": "Image,Metadata,Mensuration",
 "defaultMosaicMethod": "Center",
 "allowedMosaicMethods": "",
 "sortField": "",
 "sortValue": null,
 "sortAscending": true,
 "mosaicOperator": "First",
 "defaultCompressionQuality": 75,
 "defaultResamplingMethod": "Bilinear",
 "maxImageHeight": 4100,
 "maxImageWidth": 15000,
 "singleFusedMapCache": true,
 "tileInfo": {
  "rows": 256,
  "cols": 256,
  "dpi": 96,
  "format": "JPEG",
  "compressionQuality": 75,
  "origin": {
   "x": -118608900,
   "y": 1.5908159999999997E8
  },
  "spatialReference": {
   "wkt": "PROJCS[\"NAD_1983_California_zone_6_ftUS\",GEOGCS[\"GCS_North_American_1983\",DATUM[\"D_North_American_1983\",SPHEROID[\"GRS_1980\",6378137.0,298.257222101]],PRIMEM[\"Greenwich\",0.0],UNIT[\"Degree\",0.0174532925199433]],PROJECTION[\"Lambert_Conformal_Conic\"],PARAMETER[\"false_easting\",6561666.667],PARAMETER[\"false_northing\",1640416.667],PARAMETER[\"central_meridian\",-116.25],PARAMETER[\"standard_parallel_1\",32.78333333333333],PARAMETER[\"standard_parallel_2\",33.88333333333333],PARAMETER[\"latitude_of_origin\",32.16666666666666],UNIT[\"Foot_US\",0.3048006096012192]]"
  },
  "lods": [
   {
    "level": 0,
    "resolution": 88.88888888888889,
    "scale": 102400
   },
   {
    "level": 1,
    "resolution": 44.44444444444444,
    "scale": 51200
   },
   {
    "level": 2,
    "resolution": 22.22222222222222,
    "scale": 25600
   },
   {
    "level": 3,
    "resolution": 11.11111111111111,
    "scale": 12800
   },
   {
    "level": 4,
    "resolution": 5.555555555555555,
    "scale": 6400
   },
   {
    "level": 5,
    "resolution": 2.7777777777777777,
    "scale": 3200
   },
   {
    "level": 6,
    "resolution": 1.3888888888888888,
    "scale": 1600
   },
   {
    "level": 7,
    "resolution": 0.6944444444444444,
    "scale": 800
   },
   {
    "level": 8,
    "resolution": 0.3472222222222222,
    "scale": 400
   }
  ]
 },
 "storageInfo": {
  "storageFormat": "esriMapCacheStorageModeCompactV2",
  "packetSize": 128
 },
 "cacheType": "Map",
 "allowRasterFunction": true,
 "rasterFunctionInfos": [
  {
   "name": "None",
   "description": "",
   "help": ""
  }
 ],
 "rasterTypeInfos": [
  {
   "name": "Raster Dataset",
   "description": "Supports all ArcGIS Raster Datasets",
   "help": ""
  }
 ],
 "mensurationCapabilities": "Basic",
 "hasHistograms": true,
 "hasColormap": false,
 "hasRasterAttributeTable": false,
 "minScale": 102400,
 "maxScale": 400,
 "exportTilesAllowed": false,
 "supportsStatistics": false,
 "supportsAdvancedQueries": false,
 "editFieldsInfo": null,
 "ownershipBasedAccessControlForRasters": null,
 "allowComputeTiePoints": false,
 "useStandardizedQueries": true,
 "advancedQueryCapabilities": {
  "useStandardizedQueries": true,
  "supportsStatistics": false,
  "supportsOrderBy": false,
  "supportsDistinct": false,
  "supportsPagination": false
 },
 "spatialReference": {
  "wkt": "PROJCS[\"NAD_1983_California_zone_6_ftUS\",GEOGCS[\"GCS_North_American_1983\",DATUM[\"D_North_American_1983\",SPHEROID[\"GRS_1980\",6378137.0,298.257222101]],PRIMEM[\"Greenwich\",0.0],UNIT[\"Degree\",0.0174532925199433]],PROJECTION[\"Lambert_Conformal_Conic\"],PARAMETER[\"false_easting\",6561666.667],PARAMETER[\"false_northing\",1640416.667],PARAMETER[\"central_meridian\",-116.25],PARAMETER[\"standard_parallel_1\",32.78333333333333],PARAMETER[\"standard_parallel_2\",33.88333333333333],PARAMETER[\"latitude_of_origin\",32.16666666666666],UNIT[\"Foot_US\",0.3048006096012192]]"
 }
}
