{
 "currentVersion": 10.91,
 "serviceDescription": "Irvine_CA_Nearmap_Sum24_Clip_Both",
 "name": "Irvine_CA_Nearmap_Sum24_Clip_Both",
 "description": "",
 "extent": {
  "xmin": 6104463.928416297,
  "ymin": 2188403.571010649,
  "xmax": 6110691.027838722,
  "ymax": 2196999.598109901,
  "spatialReference": {
   "wkt": "PROJCS[\"NAD_1983_California_zone_6_ftUS\",GEOGCS[\"GCS_North_American_1983\",DATUM[\"D_North_American_1983\",SPHEROID[\"GRS_1980\",6378137.0,298.257222101]],PRIMEM[\"Greenwich\",0.0],UNIT[\"Degree\",0.0174532925199433]],PROJECTION[\"Lambert_Conformal_Conic\"],PARAMETER[\"false_easting\",6561666.667],PARAMETER[\"false_northing\",1640416.667],PARAMETER[\"central_meridian\",-116.25],PARAMETER[\"standard_parallel_1\",32.7833333333333],PARAMETER[\"standard_parallel_2\",33.8833333333333],PARAMETER[\"latitude_of_origin\",32.1666666666667],UNIT[\"Foot_US\",0.3048006096012192]]"
  }
 },
 "initialExtent": {
  "xmin": 6104463.928416297,
  "ymin": 2188403.571010649,
  "xmax": 6110691.027838722,
  "ymax": 2196999.598109901,
  "spatialReference": {
   "wkt": "PROJCS[\"NAD_1983_California_zone_6_ftUS\",GEOGCS[\"GCS_North_American_1983\",DATUM[\"D_North_American_1983\",SPHEROID[\"GRS_1980\",6378137.0,298.257222101]],PRIMEM[\"Greenwich\",0.0],UNIT[\"Degree\",0.0174532925199433]],PROJECTION[\"Lambert_Conformal_Conic\"],PARAMETER[\"false_easting\",6561666.667],PARAMETER[\"false_northing\",1640416.667],PARAMETER[\"central_meridian\",-116.25],PARAMETER[\"standard_parallel_1\",32.7833333333333],PARAMETER[\"standard_parallel_2\",33.8833333333333],PARAMETER[\"latitude_of_origin\",32.1666666666667],UNIT[\"Foot_US\",0.3048006096012192]]"
  }
 },
 "fullExtent": {
  "xmin": 6104463.928416297,
  "ymin": 2188403.571010649,
  "xmax": 6110691.027838722,
  "ymax": 2196999.598109901,
  "spatialReference": {
   "wkt": "PROJCS[\"NAD_1983_California_zone_6_ftUS\",GEOGCS[\"GCS_North_American_1983\",DATUM[\"D_North_American_1983\",SPHEROID[\"GRS_1980\",6378137.0,298.257222101]],PRIMEM[\"Greenwich\",0.0],UNIT[\"Degree\",0.0174532925199433]],PROJECTION[\"Lambert_Conformal_Conic\"],PARAMETER[\"false_easting\",6561666.667],PARAMETER[\"false_northing\",1640416.667],PARAMETER[\"central_meridian\",-116.25],PARAMETER[\"standard_parallel_1\",32.7833333333333],PARAMETER[\"standard_parallel_2\",33.8833333333333],PARAMETER[\"latitude_of_origin\",32.1666666666667],UNIT[\"Foot_US\",0.3048006096012192]]"
  }
 },
 "hasMultidimensions": false,
 "pixelSizeX": 0.2499939548928111,
 "pixelSizeY": 0.24999351750041435,
 "datasetFormat": "FGDBR",
 "uncompressedSize": 3425983860,
 "blockWidth": 128,
 "blockHeight": 128,
 "compressionType": "LZ77",
 "bandNames": [
  "Band_1",
  "Band_2",
  "Band_3",
  "Band_4"
 ],
 "allowCopy": true,
 "allowAnalysis": true,
 "bandCount": 4,
 "pixelType": "U8",
 "minPixelSize": 3819.889827839325,
 "maxPixelSize": 977891.7959268672,
 "copyrightText": "",
 "serviceDataType": "esriImageServiceDataTypeGeneric",
 "serviceSourceType": "esriImageServiceSourceTypeDataset",
 "minValues": [
  0,
  0,
  0,
  255
 ],
 "maxValues": [
  255,
  255,
  255,
  255
 ],
 "meanValues": [
  127.11440368601866,
  121.52981901962167,
  111.1169862458936,
  255
 ],
 "stdvValues": [
  60.59481075308089,
  54.0991121859574,
  50.04585368464543,
  0
 ],
 "objectIdField": "",
 "fields": [],
 "capabilities": "Image,Metadata,Mensuration",
 "defaultMosaicMethod": "Center",
 "allowedMosaicMethods": "",
 "sortField": "",
 "sortValue": null,
 "sortAscending": true,
 "mosaicOperator": "First",
 "defaultCompressionQuality": 75,
 "defaultResamplingMethod": "Bilinear",
 "maxImageHeight": 4100,
 "maxImageWidth": 15000,
 "singleFusedMapCache": true,
 "tileInfo": {
  "rows": 256,
  "cols": 256,
  "dpi": 96,
  "format": "PNG",
  "compressionQuality": 0,
  "origin": {
   "x": -1.1860848321163899E8,
   "y": 1.061928330049777E8
  },
  "spatialReference": {
   "wkt": "PROJCS[\"NAD_1983_California_zone_6_ftUS\",GEOGCS[\"GCS_North_American_1983\",DATUM[\"D_North_American_1983\",SPHEROID[\"GRS_1980\",6378137.0,298.257222101]],PRIMEM[\"Greenwich\",0.0],UNIT[\"Degree\",0.0174532925199433]],PROJECTION[\"Lambert_Conformal_Conic\"],PARAMETER[\"false_easting\",6561666.667],PARAMETER[\"false_northing\",1640416.667],PARAMETER[\"central_meridian\",-116.25],PARAMETER[\"standard_parallel_1\",32.7833333333333],PARAMETER[\"standard_parallel_2\",33.8833333333333],PARAMETER[\"latitude_of_origin\",32.1666666666667],UNIT[\"Foot_US\",0.3048006096012192]]"
  },
  "lods": [
   {
    "level": 0,
    "resolution": 977891.7959268672,
    "scale": 1.126533601974955E9
   },
   {
    "level": 1,
    "resolution": 488945.8979634336,
    "scale": 5.632668009874775E8
   },
   {
    "level": 2,
    "resolution": 244472.9489817168,
    "scale": 2.816334004937388E8
   },
   {
    "level": 3,
    "resolution": 122236.4744908584,
    "scale": 1.408167002468694E8
   },
   {
    "level": 4,
    "resolution": 61118.2372454292,
    "scale": 7.04083501234347E7
   },
   {
    "level": 5,
    "resolution": 30559.1186227146,
    "scale": 3.520417506171735E7
   },
   {
    "level": 6,
    "resolution": 15279.5593113573,
    "scale": 1.7602087530858673E7
   },
   {
    "level": 7,
    "resolution": 7639.77965567865,
    "scale": 8801043.765429337
   },
   {
    "level": 8,
    "resolution": 3819.889827839325,
    "scale": 4400521.882714668
   },
   {
    "level": 9,
    "resolution": 1909.9449139196624,
    "scale": 2200260.941357334
   },
   {
    "level": 10,
    "resolution": 954.9724569598312,
    "scale": 1100130.470678667
   },
   {
    "level": 11,
    "resolution": 477.4862284799156,
    "scale": 550065.2353393335
   },
   {
    "level": 12,
    "resolution": 238.7431142399578,
    "scale": 275032.61766966677
   },
   {
    "level": 13,
    "resolution": 119.3715571199789,
    "scale": 137516.30883483338
   },
   {
    "level": 14,
    "resolution": 59.68577855998945,
    "scale": 68758.15441741669
   },
   {
    "level": 15,
    "resolution": 29.842889279994726,
    "scale": 34379.077208708346
   },
   {
    "level": 16,
    "resolution": 14.921444639997363,
    "scale": 17189.538604354173
   },
   {
    "level": 17,
    "resolution": 7.460722319998681,
    "scale": 8594.769302177087
   },
   {
    "level": 18,
    "resolution": 3.7303611599993407,
    "scale": 4297.384651088543
   }
  ]
 },
 "storageInfo": {
  "storageFormat": "esriMapCacheStorageModeCompactV2",
  "packetSize": 128
 },
 "cacheType": "Map",
 "allowRasterFunction": true,
 "rasterFunctionInfos": [
  {
   "name": "None",
   "description": "",
   "help": ""
  }
 ],
 "rasterTypeInfos": [
  {
   "name": "Raster Dataset",
   "description": "Supports all ArcGIS Raster Datasets",
   "help": ""
  }
 ],
 "mensurationCapabilities": "Basic",
 "hasHistograms": true,
 "hasColormap": false,
 "hasRasterAttributeTable": false,
 "minScale": 1.126533601974955E9,
 "maxScale": 4400521.882714668,
 "minLOD": 0,
 "maxLOD": 8,
 "exportTilesAllowed": false,
 "supportsStatistics": false,
 "supportsAdvancedQueries": false,
 "editFieldsInfo": null,
 "ownershipBasedAccessControlForRasters": null,
 "allowComputeTiePoints": false,
 "useStandardizedQueries": true,
 "advancedQueryCapabilities": {
  "useStandardizedQueries": true,
  "supportsStatistics": false,
  "supportsOrderBy": false,
  "supportsDistinct": false,
  "supportsPagination": false
 },
 "spatialReference": {
  "wkt": "PROJCS[\"NAD_1983_California_zone_6_ftUS\",GEOGCS[\"GCS_North_American_1983\",DATUM[\"D_North_American_1983\",SPHEROID[\"GRS_1980\",6378137.0,298.257222101]],PRIMEM[\"Greenwich\",0.0],UNIT[\"Degree\",0.0174532925199433]],PROJECTION[\"Lambert_Conformal_Conic\"],PARAMETER[\"false_easting\",6561666.667],PARAMETER[\"false_northing\",1640416.667],PARAMETER[\"central_meridian\",-116.25],PARAMETER[\"standard_parallel_1\",32.7833333333333],PARAMETER[\"standard_parallel_2\",33.8833333333333],PARAMETER[\"latitude_of_origin\",32.1666666666667],UNIT[\"Foot_US\",0.3048006096012192]]"
 }
}
