{
 "currentVersion": 10.91,
 "serviceDescription": "TEST/Aerial_2024",
 "name": "TEST/Aerial_2024",
 "description": "",
 "extent": {
  "xmin": 6052970.75,
  "ymin": 2151605.25,
  "xmax": 6138040.75,
  "ymax": 2246918,
  "spatialReference": {
   "wkt": "PROJCS[\"NAD_1983_California_zone_6_ftUS\",GEOGCS[\"GCS_North_American_1983\",DATUM[\"D_North_American_1983\",SPHEROID[\"GRS_1980\",6378137.0,298.257222101]],PRIMEM[\"Greenwich\",0.0],UNIT[\"Degree\",0.0174532925199433]],PROJECTION[\"Lambert_Conformal_Conic\"],PARAMETER[\"false_easting\",6561666.66666667],PARAMETER[\"false_northing\",1640416.66666667],PARAMETER[\"central_meridian\",-116.25],PARAMETER[\"standard_parallel_1\",32.7833333333333],PARAMETER[\"standard_parallel_2\",33.8833333333333],PARAMETER[\"latitude_of_origin\",32.1666666666667],UNIT[\"Foot_US\",0.3048006096012192]]"
  }
 },
 "initialExtent": {
  "xmin": 6052970.75,
  "ymin": 2151605.25,
  "xmax": 6138040.75,
  "ymax": 2246918,
  "spatialReference": {
   "wkt": "PROJCS[\"NAD_1983_California_zone_6_ftUS\",GEOGCS[\"GCS_North_American_1983\",DATUM[\"D_North_American_1983\",SPHEROID[\"GRS_1980\",6378137.0,298.257222101]],PRIMEM[\"Greenwich\",0.0],UNIT[\"Degree\",0.0174532925199433]],PROJECTION[\"Lambert_Conformal_Conic\"],PARAMETER[\"false_easting\",6561666.66666667],PARAMETER[\"false_northing\",1640416.66666667],PARAMETER[\"central_meridian\",-116.25],PARAMETER[\"standard_parallel_1\",32.7833333333333],PARAMETER[\"standard_parallel_2\",33.8833333333333],PARAMETER[\"latitude_of_origin\",32.1666666666667],UNIT[\"Foot_US\",0.3048006096012192]]"
  }
 },
 "fullExtent": {
  "xmin": 6052970.75,
  "ymin": 2151605.25,
  "xmax": 6138040.75,
  "ymax": 2246918,
  "spatialReference": {
   "wkt": "PROJCS[\"NAD_1983_California_zone_6_ftUS\",GEOGCS[\"GCS_North_American_1983\",DATUM[\"D_North_American_1983\",SPHEROID[\"GRS_1980\",6378137.0,298.257222101]],PRIMEM[\"Greenwich\",0.0],UNIT[\"Degree\",0.0174532925199433]],PROJECTION[\"Lambert_Conformal_Conic\"],PARAMETER[\"false_easting\",6561666.66666667],PARAMETER[\"false_northing\",1640416.66666667],PARAMETER[\"central_meridian\",-116.25],PARAMETER[\"standard_parallel_1\",32.7833333333333],PARAMETER[\"standard_parallel_2\",33.8833333333333],PARAMETER[\"latitude_of_origin\",32.1666666666667],UNIT[\"Foot_US\",0.3048006096012192]]"
  }
 },
 "hasMultidimensions": false,
 "pixelSizeX": 0.25,
 "pixelSizeY": 0.25,
 "datasetFormat": "MrSID",
 "uncompressedSize": 518928361120,
 "blockWidth": 1024,
 "blockHeight": 128,
 "compressionType": "Wavelet (MG4)",
 "bandNames": [
  "Band_1",
  "Band_2",
  "Band_3",
  "Band_4"
 ],
 "allowCopy": true,
 "allowAnalysis": true,
 "bandCount": 4,
 "pixelType": "U8",
 "minPixelSize": 0,
 "maxPixelSize": 0,
 "copyrightText": "",
 "serviceDataType": "esriImageServiceDataTypeProcessed",
 "serviceSourceType": "esriImageServiceSourceTypeDataset",
 "minValues": [
  0,
  0,
  0,
  0
 ],
 "maxValues": [
  204,
  188,
  172,
  255
 ],
 "meanValues": [
  114.58751266464,
  114.14627659574,
  106.61866767984,
  247.1251266464
 ],
 "stdvValues": [
  25.300627939987,
  22.750446877972,
  21.040508309376,
  43.707239017259
 ],
 "objectIdField": "",
 "fields": [],
 "capabilities": "Image,Metadata,Mensuration",
 "defaultMosaicMethod": "Center",
 "allowedMosaicMethods": "",
 "sortField": "",
 "sortValue": null,
 "sortAscending": true,
 "mosaicOperator": "First",
 "defaultCompressionQuality": 75,
 "defaultResamplingMethod": "Bilinear",
 "maxImageHeight": 4100,
 "maxImageWidth": 15000,
 "allowRasterFunction": true,
 "rasterFunctionInfos": [
  {
   "name": "None",
   "description": "",
   "help": ""
  }
 ],
 "rasterTypeInfos": [
  {
   "name": "Raster Dataset",
   "description": "Supports all ArcGIS Raster Datasets",
   "help": ""
  }
 ],
 "mensurationCapabilities": "Basic",
 "hasHistograms": true,
 "hasColormap": false,
 "hasRasterAttributeTable": false,
 "minScale": 2311162.217155,
 "maxScale": 9027.977411,
 "minLOD": 8,
 "maxLOD": 16,
 "exportTilesAllowed": false,
 "supportsStatistics": false,
 "supportsAdvancedQueries": false,
 "editFieldsInfo": null,
 "ownershipBasedAccessControlForRasters": null,
 "allowComputeTiePoints": false,
 "useStandardizedQueries": true,
 "advancedQueryCapabilities": {
  "useStandardizedQueries": true,
  "supportsStatistics": false,
  "supportsOrderBy": false,
  "supportsDistinct": false,
  "supportsPagination": false
 },
 "spatialReference": {
  "wkt": "PROJCS[\"NAD_1983_California_zone_6_ftUS\",GEOGCS[\"GCS_North_American_1983\",DATUM[\"D_North_American_1983\",SPHEROID[\"GRS_1980\",6378137.0,298.257222101]],PRIMEM[\"Greenwich\",0.0],UNIT[\"Degree\",0.0174532925199433]],PROJECTION[\"Lambert_Conformal_Conic\"],PARAMETER[\"false_easting\",6561666.66666667],PARAMETER[\"false_northing\",1640416.66666667],PARAMETER[\"central_meridian\",-116.25],PARAMETER[\"standard_parallel_1\",32.7833333333333],PARAMETER[\"standard_parallel_2\",33.8833333333333],PARAMETER[\"latitude_of_origin\",32.1666666666667],UNIT[\"Foot_US\",0.3048006096012192]]"
 }
}
