View In:
ArcGIS JavaScript
ArcGIS Online Map Viewer
ArcGIS Earth
ArcMap
View Footprint In:
ArcGIS Online Map Viewer
Service Description: Aerial/Aerial_2022
Name: Aerial/Aerial_2022
Description:
Single Fused Map Cache: false
Extent:
XMin: 6053924.000000009
YMin: 2148184.9999994566
XMax: 6146424.000000009
YMax: 2241934.9999994566
Spatial Reference: 102646
(2230)
LatestVCSWkid(0)
Initial Extent:
XMin: 6053924.000000009
YMin: 2148184.9999994566
XMax: 6146424.000000009
YMax: 2241934.9999994566
Spatial Reference: 102646
(2230)
LatestVCSWkid(0)
Full Extent:
XMin: 6053924.000000009
YMin: 2148184.9999994566
XMax: 6146424.000000009
YMax: 2241934.9999994566
Spatial Reference: 102646
(2230)
LatestVCSWkid(0)
Pixel Size X: 0.25
Pixel Size Y: 0.25
Band Count: 3
Pixel Type: U8
RasterFunction Infos: {"rasterFunctionInfos": [{
"name": "None",
"description": "",
"help": ""
}]}
Mensuration Capabilities: Basic
Has Histograms: true
Has Colormap: false
Has Multi Dimensions : false
Rendering Rule:
Min Scale: 102400
Max Scale: 400
Min LOD: 0
Max LOD: 8
Copyright Text:
Service Data Type: esriImageServiceDataTypeRGB
Min Values: 49, 50, 39
Max Values: 255, 255, 255
Mean Values: 196.7588389871, 194.70950788342, 191.74151935022
Standard Deviation Values: 60.114455349666, 61.204806764981, 65.054061321295
Object ID Field:
Fields:
None
Default Mosaic Method: Center
Allowed Mosaic Methods:
SortField:
SortValue: null
Mosaic Operator: First
Default Compression Quality: 75
Default Resampling Method: Bilinear
Max Record Count: null
Max Image Height: 4100
Max Image Width: 15000
Max Download Image Count: null
Max Mosaic Image Count: null
Allow Raster Function: true
Allow Copy: false
Allow Analysis: true
Allow Compute TiePoints: false
Supports Statistics: false
Supports Advanced Queries: false
Use StandardizedQueries: true
Raster Type Infos:
Name: Raster Dataset
Description: Supports all ArcGIS Raster Datasets
Help:
Has Raster Attribute Table: false
Edit Fields Info: null
Ownership Based AccessControl For Rasters: null
Child Resources:
Info
Histograms
Statistics
Key Properties
Legend
Raster Function Infos
Supported Operations:
Export Image
Identify
Measure
Compute Histograms
Compute Statistics Histograms
Get Samples
Compute Class Statistics
Query Boundary
Compute Pixel Location
Compute Angles
Validate
Project