View In:
ArcGIS JavaScript
ArcGIS Online Map Viewer
ArcGIS Earth
ArcMap
View Footprint In:
ArcGIS Online Map Viewer
Service Description: Aerial/Aerial_1986
Name: Aerial/Aerial_1986
Description:
Single Fused Map Cache: false
Extent:
XMin: 6035872.2323389845
YMin: 2160788.572304692
XMax: 6150468.101175774
YMax: 2229782.388089953
Spatial Reference: 102646
(2230)
LatestVCSWkid(0)
Initial Extent:
XMin: 6035872.2323389845
YMin: 2160788.572304692
XMax: 6150468.101175774
YMax: 2229782.388089953
Spatial Reference: 102646
(2230)
LatestVCSWkid(0)
Full Extent:
XMin: 6035872.2323389845
YMin: 2160788.572304692
XMax: 6150468.101175774
YMax: 2229782.388089953
Spatial Reference: 102646
(2230)
LatestVCSWkid(0)
Pixel Size X: 6.563337275875681
Pixel Size Y: 6.650006340748035
Band Count: 3
Pixel Type: U8
RasterFunction Infos: {"rasterFunctionInfos": [{
"name": "None",
"description": "",
"help": ""
}]}
Mensuration Capabilities: Basic
Has Histograms: true
Has Colormap: false
Has Multi Dimensions : false
Rendering Rule:
Min Scale: 102400
Max Scale: 400
Copyright Text:
Service Data Type: esriImageServiceDataTypeRGB
Min Values: 0, 0, 0
Max Values: 255, 255, 255
Mean Values: 103.53215606067, 98.146855910222, 81.259540484992
Standard Deviation Values: 58.113345683983, 52.276752135422, 45.556314030064
Object ID Field:
Fields:
None
Default Mosaic Method: Center
Allowed Mosaic Methods:
SortField:
SortValue: null
Mosaic Operator: First
Default Compression Quality: 75
Default Resampling Method: Bilinear
Max Record Count: null
Max Image Height: 4100
Max Image Width: 15000
Max Download Image Count: null
Max Mosaic Image Count: null
Allow Raster Function: true
Allow Copy: true
Allow Analysis: true
Allow Compute TiePoints: false
Supports Statistics: false
Supports Advanced Queries: false
Use StandardizedQueries: true
Raster Type Infos:
Name: Raster Dataset
Description: Supports all ArcGIS Raster Datasets
Help:
Has Raster Attribute Table: false
Edit Fields Info: null
Ownership Based AccessControl For Rasters: null
Child Resources:
Info
Histograms
Statistics
Key Properties
Legend
Raster Function Infos
Supported Operations:
Export Image
Identify
Measure
Compute Histograms
Compute Statistics Histograms
Get Samples
Compute Class Statistics
Query Boundary
Compute Pixel Location
Compute Angles
Validate
Project