View In:
ArcGIS JavaScript
ArcGIS Online Map Viewer
ArcGIS Earth
ArcMap
View Footprint In:
ArcGIS Online Map Viewer
Service Description: Aerial/Aerial_2010_Test
Name: Aerial/Aerial_2010_Test
Description:
Single Fused Map Cache: true
Tile Info:
- Height: 256
- Width: 256
- DPI: 96
-
Levels of Detail: 4
- Format: MIXED
- Compression Quality: 75.0
- LERC Error: NaN
- Origin: X: -1.186089E8
Y: 1.5908159999999997E8
- Spatial Reference: 102646
(2230)
LatestVCSWkid(0)
Storage Info:
- Storage Format: esriMapCacheStorageModeCompactV2
- Packet Size: 128
Extent:
XMin: 6058466.419763351
YMin: 2150139.281595579
XMax: 6148796.950229572
YMax: 2240469.8120618
Spatial Reference: 102646
(2230)
LatestVCSWkid(0)
Initial Extent:
XMin: 6058466.419763351
YMin: 2150139.281595579
XMax: 6148796.950229572
YMax: 2240469.8120618
Spatial Reference: 102646
(2230)
LatestVCSWkid(0)
Full Extent:
XMin: 6058466.419763351
YMin: 2150139.281595579
XMax: 6148796.950229572
YMax: 2240469.8120618
Spatial Reference: 102646
(2230)
LatestVCSWkid(0)
Pixel Size X: 0.9905206476914444
Pixel Size Y: 0.9905206476914444
Band Count: 3
Pixel Type: U8
RasterFunction Infos: {"rasterFunctionInfos": [{
"name": "None",
"description": "",
"help": ""
}]}
Mensuration Capabilities: Basic
Has Histograms: true
Has Colormap: false
Has Multi Dimensions : false
Rendering Rule:
Min Scale: 2000
Max Scale: 1000
Min LOD: 0
Max LOD: 1
Copyright Text:
Service Data Type: esriImageServiceDataTypeRGB
Min Values: 8, 28, 44
Max Values: 224, 225, 215
Mean Values: 111.06518518519, 120.10728395062, 116.08901234568
Standard Deviation Values: 30.151796175685, 25.085950448548, 23.677652176784
Object ID Field:
Fields:
None
Default Mosaic Method: Center
Allowed Mosaic Methods:
SortField:
SortValue: null
Mosaic Operator: First
Default Compression Quality: 75
Default Resampling Method: Bilinear
Max Record Count: null
Max Image Height: 4100
Max Image Width: 15000
Max Download Image Count: null
Max Mosaic Image Count: null
Allow Raster Function: true
Allow Copy: true
Allow Analysis: true
Allow Compute TiePoints: false
Supports Statistics: false
Supports Advanced Queries: false
Use StandardizedQueries: true
Raster Type Infos:
Name: Raster Dataset
Description: Supports all ArcGIS Raster Datasets
Help:
Has Raster Attribute Table: false
Edit Fields Info: null
Ownership Based AccessControl For Rasters: null
Child Resources:
Info
Histograms
Statistics
Key Properties
Legend
Raster Function Infos
Supported Operations:
Export Image
Identify
Measure
Compute Histograms
Compute Statistics Histograms
Get Samples
Compute Class Statistics
Query Boundary
Compute Pixel Location
Compute Angles
Validate
Project