View In:
ArcGIS JavaScript
ArcGIS Online Map Viewer
ArcGIS Earth
ArcMap
View Footprint In:
ArcGIS Online Map Viewer
Service Description: Irvine_CA_Nearmap_Sum24_Clip_Both
Name: Irvine_CA_Nearmap_Sum24_Clip_Both
Description:
Single Fused Map Cache: true
Tile Info:
- Height: 256
- Width: 256
- DPI: 96
-
Levels of Detail: 19
-
Level ID: 0
[ Start Tile, End Tile ]
- Resolution: 977891.7959268672
- Scale: 1.126533601974955E9
-
Level ID: 1
[ Start Tile, End Tile ]
- Resolution: 488945.8979634336
- Scale: 5.632668009874775E8
-
Level ID: 2
[ Start Tile, End Tile ]
- Resolution: 244472.9489817168
- Scale: 2.816334004937388E8
-
Level ID: 3
[ Start Tile, End Tile ]
- Resolution: 122236.4744908584
- Scale: 1.408167002468694E8
-
Level ID: 4
[ Start Tile, End Tile ]
- Resolution: 61118.2372454292
- Scale: 7.04083501234347E7
-
Level ID: 5
[ Start Tile, End Tile ]
- Resolution: 30559.1186227146
- Scale: 3.520417506171735E7
-
Level ID: 6
[ Start Tile, End Tile ]
- Resolution: 15279.5593113573
- Scale: 1.7602087530858673E7
-
Level ID: 7
[ Start Tile, End Tile ]
- Resolution: 7639.77965567865
- Scale: 8801043.765429337
-
Level ID: 8
[ Start Tile, End Tile ]
- Resolution: 3819.889827839325
- Scale: 4400521.882714668
-
Level ID: 9
[ Start Tile, End Tile ]
- Resolution: 1909.9449139196624
- Scale: 2200260.941357334
-
Level ID: 10
[ Start Tile, End Tile ]
- Resolution: 954.9724569598312
- Scale: 1100130.470678667
-
Level ID: 11
[ Start Tile, End Tile ]
- Resolution: 477.4862284799156
- Scale: 550065.2353393335
-
Level ID: 12
[ Start Tile, End Tile ]
- Resolution: 238.7431142399578
- Scale: 275032.61766966677
-
Level ID: 13
[ Start Tile, End Tile ]
- Resolution: 119.3715571199789
- Scale: 137516.30883483338
-
Level ID: 14
[ Start Tile, End Tile ]
- Resolution: 59.68577855998945
- Scale: 68758.15441741669
-
Level ID: 15
[ Start Tile, End Tile ]
- Resolution: 29.842889279994726
- Scale: 34379.077208708346
-
Level ID: 16
[ Start Tile, End Tile ]
- Resolution: 14.921444639997363
- Scale: 17189.538604354173
-
Level ID: 17
[ Start Tile, End Tile ]
- Resolution: 7.460722319998681
- Scale: 8594.769302177087
-
Level ID: 18
[ Start Tile, End Tile ]
- Resolution: 3.7303611599993407
- Scale: 4297.384651088543
- Format: PNG
- Compression Quality: 0.0
- LERC Error: NaN
- Origin: X: -1.1860848321163899E8
Y: 1.061928330049777E8
- Spatial Reference: 0
(0)
LatestVCSWkid(0)
Storage Info:
- Storage Format: esriMapCacheStorageModeCompactV2
- Packet Size: 128
Extent:
XMin: 6104463.928416297
YMin: 2188403.571010649
XMax: 6110691.027838722
YMax: 2196999.598109901
Spatial Reference: 0
(0)
LatestVCSWkid(0)
Initial Extent:
XMin: 6104463.928416297
YMin: 2188403.571010649
XMax: 6110691.027838722
YMax: 2196999.598109901
Spatial Reference: 0
(0)
LatestVCSWkid(0)
Full Extent:
XMin: 6104463.928416297
YMin: 2188403.571010649
XMax: 6110691.027838722
YMax: 2196999.598109901
Spatial Reference: 0
(0)
LatestVCSWkid(0)
Pixel Size X: 0.2499939548928111
Pixel Size Y: 0.24999351750041435
Band Count: 4
Pixel Type: U8
RasterFunction Infos: {"rasterFunctionInfos": [{
"name": "None",
"description": "",
"help": ""
}]}
Mensuration Capabilities: Basic
Has Histograms: true
Has Colormap: false
Has Multi Dimensions : false
Rendering Rule:
Min Scale: 1.126533601974955E9
Max Scale: 4400521.882714668
Min LOD: 0
Max LOD: 8
Copyright Text:
Service Data Type: esriImageServiceDataTypeGeneric
Min Values: 0, 0, 0, 255
Max Values: 255, 255, 255, 255
Mean Values: 127.11440368601866, 121.52981901962167, 111.1169862458936, 255
Standard Deviation Values: 60.59481075308089, 54.0991121859574, 50.04585368464543, 0
Object ID Field:
Fields:
None
Default Mosaic Method: Center
Allowed Mosaic Methods:
SortField:
SortValue: null
Mosaic Operator: First
Default Compression Quality: 75
Default Resampling Method: Bilinear
Max Record Count: null
Max Image Height: 4100
Max Image Width: 15000
Max Download Image Count: null
Max Mosaic Image Count: null
Allow Raster Function: true
Allow Copy: true
Allow Analysis: true
Allow Compute TiePoints: false
Supports Statistics: false
Supports Advanced Queries: false
Use StandardizedQueries: true
Raster Type Infos:
Name: Raster Dataset
Description: Supports all ArcGIS Raster Datasets
Help:
Has Raster Attribute Table: false
Edit Fields Info: null
Ownership Based AccessControl For Rasters: null
Child Resources:
Info
Histograms
Statistics
Key Properties
Legend
Raster Function Infos
Supported Operations:
Export Image
Identify
Measure
Compute Histograms
Compute Statistics Histograms
Get Samples
Compute Class Statistics
Query Boundary
Compute Pixel Location
Compute Angles
Validate
Project